BEGIN:VCALENDAR
VERSION:2.0
PRODID:-//Heifetz - ECPv6.15.20//NONSGML v1.0//EN
CALSCALE:GREGORIAN
METHOD:PUBLISH
X-ORIGINAL-URL:https://heifetzinstitute.org
X-WR-CALDESC:Events for Heifetz
REFRESH-INTERVAL;VALUE=DURATION:PT1H
X-Robots-Tag:noindex
X-PUBLISHED-TTL:PT1H
BEGIN:VTIMEZONE
TZID:America/New_York
BEGIN:DAYLIGHT
TZOFFSETFROM:-0500
TZOFFSETTO:-0400
TZNAME:EDT
DTSTART:20240310T070000
END:DAYLIGHT
BEGIN:STANDARD
TZOFFSETFROM:-0400
TZOFFSETTO:-0500
TZNAME:EST
DTSTART:20241103T060000
END:STANDARD
BEGIN:DAYLIGHT
TZOFFSETFROM:-0500
TZOFFSETTO:-0400
TZNAME:EDT
DTSTART:20250309T070000
END:DAYLIGHT
BEGIN:STANDARD
TZOFFSETFROM:-0400
TZOFFSETTO:-0500
TZNAME:EST
DTSTART:20251102T060000
END:STANDARD
BEGIN:DAYLIGHT
TZOFFSETFROM:-0500
TZOFFSETTO:-0400
TZNAME:EDT
DTSTART:20260308T070000
END:DAYLIGHT
BEGIN:STANDARD
TZOFFSETFROM:-0400
TZOFFSETTO:-0500
TZNAME:EST
DTSTART:20261101T060000
END:STANDARD
END:VTIMEZONE
BEGIN:VEVENT
DTSTART;TZID=America/New_York:20250531T160000
DTEND;TZID=America/New_York:20250531T180000
DTSTAMP:20260421T135425
CREATED:20250502T163540Z
LAST-MODIFIED:20250514T181427Z
UID:10000566-1748707200-1748714400@heifetzinstitute.org
SUMMARY:Play it Forward - The Heifetz Ensemble in Residence at A Place to Be
DESCRIPTION:Play it Forward\nFour returning Heifetz 2025 students—violinists Kitty Amaral and Runa Matsushita\, violist Steven Baloue\, and cellist Amelia Zitoun—join faculty pianist Andrew Rosenblum for an intimate evening previewing the 2025 Festival of Concerts. Featuring dazzling solo works\, captivating sonatas\, and the crown jewel of the evening—Dvořák’s radiant Piano Quintet No. 2. All proceeds to support the Heifetz Institute’s 2025 Student Scholarship Fund. \n			\n				\n				\n				\n				\n				TICKET INFORMATION\n– $40 Reserved Seating \n– $5 student tickets\n– Free Admission for children 12 and under\n– Please email tickets@heifetzinstitute.org to inquire about group rates \n			\n				PURCHASE TICKETS\n			\n				CONCERT PROGRAM\n			\n			\n				\n				\n				\n				\n			\n				\n				\n			\n				\n				\n				\n				\n				\n				\n				\n				\n				\n				\n				\n				\n				\n				\n				\n				\n				\n				VENUE & DIRECTIONS\nA Place to Be – 1600 Village Market Blvd SE suite #108\, Leesburg VA 20175\n(Located between Victory martial arts & CMX movie theater) \n			\n			\n				\n				\n				\n				\n			\n				\n				\n			\n				\n				\n				\n				\n				\n				\n				\n				\n				\n				\n				\n				\n				\n				\n				\n				\n				\n				Upcoming Events\n			\n			\n				\n				\n				\n				\n			\n				\n				\n				\n				\n				\n				\n				\n				\n				\n				\n				\n	\n		\n	\n		0 events found.	\n	\n		\n	\n\n		\n	\n\n		\n	\n\n	\n\n\n		\n		\n\n		\n		\n\n	\n\n	\n		Featured	\n\n\n	\n		\n							\n	\n		Events	\n			\n	\n\n	\n		\n		\n						\n	\n		Featured	\n	\n		\n			\n\n\n	Events\n\n	\n			\n			\n	\n		\n		\n		\n		\n	\n\n\n	Notice\n							\n					There are no upcoming events.				\n					\n	\n\n	\n			\n			\n	\n		\n		\n		\n		\n	\n\n\n	Notice\n							\n					There are no upcoming events.				\n					\n	\n\n	\n\n	\n		Events Search and Views Navigation	\n\n			\n	\n	\n\n	\n		Search	\n\n\n		\n			\n	\n		\n\n		\n			\n	\n		Enter Keyword. Search for Events by Keyword.	\n	\n	\n	\n\n\n		\n\n		\n	Find Events\n	\n\n		\n	\n	\n	\n		Event Views Navigation	\n	\n		\n			\n				\n	\n\n			\n			\n				Photo			\n			\n	\n\n		\n		\n	\n					\n	\n		\n			\n	\n	\n		\n		\n	\n	\n			\n		\n	\n	\n		\n			\n		\n		\n			\n		\n	\n\n		\n		\n			List		\n	\n\n					\n	\n		\n			\n	\n\n		\n		\n			Month		\n	\n\n					\n	\n		\n			\n	\n\n		\n		\n			Day		\n	\n\n					\n	\n		\n			\n	\n\n		\n		\n			Photo		\n	\n\n			\n\n	\n\n\n\n\n	\n\n	\n	\n		\n	\n		\n	\n\n	\n\n\n		\n	\n		\n	\n\n	\n\n	\n\n\n	\n	Today\n\n	\n	\n		\n							\n					Upcoming				\n				\n					Upcoming				\n					\n				\n	\n\n	\n	\n		Select date.	\n	\n	\n	\n		\n	\n\n	\n	\n		\n	\n\n	\n\n\n	\n	\n	\n\n\n\n\n		\n		\n			\n				List of events in Photo View			\n			\n\n				\n			\n\n		\n\n		\n	\n		\n	\n		\n	\n\n		\n			Previous Events		\n	\n\n\n		\n	\n		Today	\n\n\n		\n	\n		\n			Next Events		\n		\n	\n\n	\n\n	\n\n\n		\n	\n		\n			\n				Subscribe to calendar			\n			\n	\n\n		\n		\n			\n									\n\n	\n		Google Calendar	\n\n									\n\n	\n		iCalendar	\n\n									\n\n	\n		Outlook 365	\n\n									\n\n	\n		Outlook Live	\n\n									\n\n	\n		Export .ics file	\n\n									\n\n	\n		Export Outlook .ics file	\n\n							\n		\n	\n\n\n			\n\n\n\n\n			\n			\n				\n				\n				\n				\n				\n				\n				\n				\n				\n				\n	\n		\n	\n		35 events found.	\n	\n		\n	\n\n		\n	\n\n		\n	\n\n	\n\n\n		\n		\n\n		\n		\n\n	\n	Events\n\n	\n			\n			\n	\n		\n		\n		\n		\n	\n\n\n	Notice\n							\n					There are no upcoming events.				\n					\n	\n\n	\n			\n			\n	\n		\n		\n		\n		\n	\n\n\n	Notice\n							\n					There are no upcoming events.				\n					\n	\n\n	\n\n	\n		Events Search and Views Navigation	\n\n			\n	\n	\n\n	\n		Search	\n\n\n		\n			\n	\n		\n\n		\n			\n	\n		Enter Keyword. Search for Events by Keyword.	\n	\n	\n	\n\n\n		\n\n		\n	Find Events\n	\n\n		\n	\n	\n	\n		Event Views Navigation	\n	\n		\n			\n				\n	\n\n			\n			\n				Month			\n			\n	\n\n		\n		\n	\n					\n	\n		\n			\n	\n	\n		\n		\n	\n	\n			\n		\n	\n	\n		\n			\n		\n		\n			\n		\n	\n\n		\n		\n			List		\n	\n\n					\n	\n		\n			\n	\n\n		\n		\n			Month		\n	\n\n					\n	\n		\n			\n	\n\n		\n		\n			Day		\n	\n\n					\n	\n		\n			\n	\n\n		\n		\n			Photo		\n	\n\n			\n\n	\n\n\n\n\n	\n\n	\n	\n		\n	\n		\n	\n\n	\n\n\n		\n	\n		\n	\n\n	\n\n	\n\n\n	\n	This Month\n\n	\n	\n		\n			\n				4/21/2026			\n			\n				April 2026			\n		\n		\n	\n\n	\n	\n		Select date.	\n	\n	\n	\n		\n	\n\n	\n	\n		\n	\n\n	\n\n\n	\n	\n	\n\n\n\n\n		\n		\n						Calendar of Events		\n		\n\n			\n\n			\n			\n					\n						M					\n				\n						Monday					\n			\n		\n			\n			\n					\n						T					\n				\n						Tuesday					\n			\n		\n			\n			\n					\n						W					\n				\n						Wednesday					\n			\n		\n			\n			\n					\n						T					\n				\n						Thursday					\n			\n		\n			\n			\n					\n						F					\n				\n						Friday					\n			\n		\n			\n			\n					\n						S					\n				\n						Saturday					\n			\n		\n			\n			\n					\n						S					\n				\n						Sunday					\n			\n		\n	\n\n\n			\n\n			\n			\n				\n	\n	\n		\n			0 events		\n		\n			30		\n	\n	\n\n	\n\n	\n\n	\n		0 events\,\n	\n	\n					30			\n\n\n	\n		\n			\n\n	\n\n\n\n			\n				\n	\n	\n		\n			0 events		\n		\n			31		\n	\n	\n\n	\n\n	\n\n	\n		0 events\,\n	\n	\n					31			\n\n\n	\n		\n			\n\n	\n\n\n\n			\n				\n	\n	\n		\n			0 events		\n		\n			1		\n	\n	\n\n	\n\n	\n\n	\n		0 events\,\n	\n	\n					1			\n\n\n	\n		\n			\n\n	\n\n\n\n			\n				\n	\n	\n		\n			0 events		\n		\n			2		\n	\n	\n\n	\n\n	\n\n	\n		0 events\,\n	\n	\n					2			\n\n\n	\n		\n			\n\n	\n\n\n\n			\n				\n	\n	\n		\n			0 events		\n		\n			3		\n	\n	\n\n	\n\n	\n\n	\n		0 events\,\n	\n	\n					3			\n\n\n	\n		\n			\n\n	\n\n\n\n			\n				\n	\n	\n		\n			0 events		\n		\n			4		\n	\n	\n\n	\n\n	\n\n	\n		0 events\,\n	\n	\n					4			\n\n\n	\n		\n			\n\n	\n\n\n\n			\n				\n	\n	\n		\n			0 events		\n		\n			5		\n	\n	\n\n	\n\n	\n\n	\n		0 events\,\n	\n	\n					5			\n\n\n	\n		\n			\n\n	\n\n\n\n					\n			\n			\n				\n	\n	\n		\n			0 events		\n		\n			6		\n	\n	\n\n	\n\n	\n\n	\n		0 events\,\n	\n	\n					6			\n\n\n	\n		\n			\n\n	\n\n\n\n			\n				\n	\n	\n		\n			0 events		\n		\n			7		\n	\n	\n\n	\n\n	\n\n	\n		0 events\,\n	\n	\n					7			\n\n\n	\n		\n			\n\n	\n\n\n\n			\n				\n	\n	\n		\n			0 events		\n		\n			8		\n	\n	\n\n	\n\n	\n\n	\n		0 events\,\n	\n	\n					8			\n\n\n	\n		\n			\n\n	\n\n\n\n			\n				\n	\n	\n		\n			0 events		\n		\n			9		\n	\n	\n\n	\n\n	\n\n	\n		0 events\,\n	\n	\n					9			\n\n\n	\n		\n			\n\n	\n\n\n\n			\n				\n	\n	\n		\n			0 events		\n		\n			10		\n	\n	\n\n	\n\n	\n\n	\n		0 events\,\n	\n	\n					10			\n\n\n	\n		\n			\n\n	\n\n\n\n			\n				\n	\n	\n		\n			0 events		\n		\n			11		\n	\n	\n\n	\n\n	\n\n	\n		0 events\,\n	\n	\n					11			\n\n\n	\n		\n			\n\n	\n\n\n\n			\n				\n	\n	\n		\n			0 events		\n		\n			12		\n	\n	\n\n	\n\n	\n\n	\n		0 events\,\n	\n	\n					12			\n\n\n	\n		\n			\n\n	\n\n\n\n					\n			\n			\n				\n	\n	\n		\n			0 events		\n		\n			13		\n	\n	\n\n	\n\n	\n\n	\n		0 events\,\n	\n	\n					13			\n\n\n	\n		\n			\n\n	\n\n\n\n			\n				\n	\n	\n		\n			0 events		\n		\n			14		\n	\n	\n\n	\n\n	\n\n	\n		0 events\,\n	\n	\n					14			\n\n\n	\n		\n			\n\n	\n\n\n\n			\n				\n	\n	\n		\n			0 events		\n		\n			15		\n	\n	\n\n	\n\n	\n\n	\n		0 events\,\n	\n	\n					15			\n\n\n	\n		\n			\n\n	\n\n\n\n			\n				\n	\n	\n		\n			0 events		\n		\n			16		\n	\n	\n\n	\n\n	\n\n	\n		0 events\,\n	\n	\n					16			\n\n\n	\n		\n			\n\n	\n\n\n\n			\n				\n	\n	\n		\n			0 events		\n		\n			17		\n	\n	\n\n	\n\n	\n\n	\n		0 events\,\n	\n	\n					17			\n\n\n	\n		\n			\n\n	\n\n\n\n			\n				\n	\n	\n		\n			0 events		\n		\n			18		\n	\n	\n\n	\n\n	\n\n	\n		0 events\,\n	\n	\n					18			\n\n\n	\n		\n			\n\n	\n\n\n\n			\n				\n	\n	\n		\n			0 events		\n		\n			19		\n	\n	\n\n	\n\n	\n\n	\n		0 events\,\n	\n	\n					19			\n\n\n	\n		\n			\n\n	\n\n\n\n					\n			\n			\n				\n	\n	\n		\n			0 events		\n		\n			20		\n	\n	\n\n	\n\n	\n\n	\n		0 events\,\n	\n	\n					20			\n\n\n	\n		\n			\n\n	\n\n\n\n			\n				\n	\n	\n		\n			0 events		\n		\n			21		\n	\n	\n\n	\n\n	\n\n	\n		0 events\,\n	\n	\n					21			\n\n\n	\n		\n			\n\n	\n\n\n\n			\n				\n	\n	\n		\n			0 events		\n		\n			22		\n	\n	\n\n	\n\n	\n\n	\n		0 events\,\n	\n	\n					22			\n\n\n	\n		\n			\n\n	\n\n\n\n			\n				\n	\n	\n		\n			0 events		\n		\n			23		\n	\n	\n\n	\n\n	\n\n	\n		0 events\,\n	\n	\n					23			\n\n\n	\n		\n			\n\n	\n\n\n\n			\n				\n	\n	\n		\n			0 events		\n		\n			24		\n	\n	\n\n	\n\n	\n\n	\n		0 events\,\n	\n	\n					24			\n\n\n	\n		\n			\n\n	\n\n\n\n			\n				\n	\n	\n		\n			0 events		\n		\n			25		\n	\n	\n\n	\n\n	\n\n	\n		0 events\,\n	\n	\n					25			\n\n\n	\n		\n			\n\n	\n\n\n\n			\n				\n	\n	\n		\n			0 events		\n		\n			26		\n	\n	\n\n	\n\n	\n\n	\n		0 events\,\n	\n	\n					26			\n\n\n	\n		\n			\n\n	\n\n\n\n					\n			\n			\n				\n	\n	\n		\n			0 events		\n		\n			27		\n	\n	\n\n	\n\n	\n\n	\n		0 events\,\n	\n	\n					27			\n\n\n	\n		\n			\n\n	\n\n\n\n			\n				\n	\n	\n		\n			0 events		\n		\n			28		\n	\n	\n\n	\n\n	\n\n	\n		0 events\,\n	\n	\n					28			\n\n\n	\n		\n			\n\n	\n\n\n\n			\n				\n	\n	\n		\n			0 events		\n		\n			29		\n	\n	\n\n	\n\n	\n\n	\n		0 events\,\n	\n	\n					29			\n\n\n	\n		\n			\n\n	\n\n\n\n			\n				\n	\n	\n		\n			0 events		\n		\n			30		\n	\n	\n\n	\n\n	\n\n	\n		0 events\,\n	\n	\n					30			\n\n\n	\n		\n			\n\n	\n\n\n\n			\n				\n	\n	\n		\n			0 events		\n		\n			1		\n	\n	\n\n	\n\n	\n\n	\n		0 events\,\n	\n	\n					1			\n\n\n	\n		\n			\n\n	\n\n\n\n			\n				\n	\n	\n		\n			0 events		\n		\n			2		\n	\n	\n\n	\n\n	\n\n	\n		0 events\,\n	\n	\n					2			\n\n\n	\n		\n			\n\n	\n\n\n\n			\n				\n	\n	\n		\n			0 events		\n		\n			3		\n	\n	\n\n	\n\n	\n\n	\n		0 events\,\n	\n	\n					3			\n\n\n	\n		\n			\n\n	\n\n\n\n					\n	\n\n		\n\n		\n			\n			\n	\n		\n		\n		\n		\n	\n\n\n	Notice\n							\n					There are no upcoming events.				\n					\n	\n\n		\n\n	\n		\n\n\n	\n		\n			\n			\n	\n		\n		\n		\n		\n	\n\n\n	Notice\n							\n					There are no events on this day.				\n					\n	\n\n	\n\n	\n		\n\n\n	\n		\n			\n			\n	\n		\n		\n		\n		\n	\n\n\n	Notice\n							\n					There are no events on this day.				\n					\n	\n\n	\n\n	\n		\n\n\n	\n		\n			\n			\n	\n		\n		\n		\n		\n	\n\n\n	Notice\n							\n					There are no events on this day.				\n					\n	\n\n	\n\n	\n		\n\n\n	\n		\n			\n			\n	\n		\n		\n		\n		\n	\n\n\n	Notice\n							\n					There are no events on this day.				\n					\n	\n\n	\n\n	\n		\n\n\n	\n		\n			\n			\n	\n		\n		\n		\n		\n	\n\n\n	Notice\n							\n					There are no events on this day.				\n					\n	\n\n	\n\n	\n		\n\n\n	\n		\n			\n			\n	\n		\n		\n		\n		\n	\n\n\n	Notice\n							\n					There are no events on this day.				\n					\n	\n\n	\n\n	\n		\n\n\n	\n		\n			\n			\n	\n		\n		\n		\n		\n	\n\n\n	Notice\n							\n					There are no events on this day.				\n					\n	\n\n	\n\n	\n		\n\n\n	\n		\n			\n			\n	\n		\n		\n		\n		\n	\n\n\n	Notice\n							\n					There are no events on this day.				\n					\n	\n\n	\n\n	\n		\n\n\n	\n		\n			\n			\n	\n		\n		\n		\n		\n	\n\n\n	Notice\n							\n					There are no events on this day.				\n					\n	\n\n	\n\n	\n		\n\n\n	\n		\n			\n			\n	\n		\n		\n		\n		\n	\n\n\n	Notice\n							\n					There are no events on this day.				\n					\n	\n\n	\n\n	\n		\n\n\n	\n		\n			\n			\n	\n		\n		\n		\n		\n	\n\n\n	Notice\n							\n					There are no events on this day.				\n					\n	\n\n	\n\n	\n		\n\n\n	\n		\n			\n			\n	\n		\n		\n		\n		\n	\n\n\n	Notice\n							\n					There are no events on this day.				\n					\n	\n\n	\n\n	\n		\n\n\n	\n		\n			\n			\n	\n		\n		\n		\n		\n	\n\n\n	Notice\n							\n					There are no events on this day.				\n					\n	\n\n	\n\n	\n		\n\n\n	\n		\n			\n			\n	\n		\n		\n		\n		\n	\n\n\n	Notice\n							\n					There are no events on this day.				\n					\n	\n\n	\n\n	\n		\n\n\n	\n		\n			\n			\n	\n		\n		\n		\n		\n	\n\n\n	Notice\n							\n					There are no events on this day.				\n					\n	\n\n	\n\n	\n		\n\n\n	\n		\n			\n			\n	\n		\n		\n		\n		\n	\n\n\n	Notice\n							\n					There are no events on this day.				\n					\n	\n\n	\n\n	\n		\n\n\n	\n		\n			\n			\n	\n		\n		\n		\n		\n	\n\n\n	Notice\n							\n					There are no events on this day.				\n					\n	\n\n	\n\n	\n		\n\n\n	\n		\n			\n			\n	\n		\n		\n		\n		\n	\n\n\n	Notice\n							\n					There are no events on this day.				\n					\n	\n\n	\n\n	\n		\n\n\n	\n		\n			\n			\n	\n		\n		\n		\n		\n	\n\n\n	Notice\n							\n					There are no events on this day.				\n					\n	\n\n	\n\n	\n		\n\n\n	\n		\n			\n			\n	\n		\n		\n		\n		\n	\n\n\n	Notice\n							\n					There are no events on this day.				\n					\n	\n\n	\n\n	\n		\n\n\n	\n		\n			\n			\n	\n		\n		\n		\n		\n	\n\n\n	Notice\n							\n					There are no events on this day.				\n					\n	\n\n	\n\n	\n		\n\n\n	\n		\n			\n			\n	\n		\n		\n		\n		\n	\n\n\n	Notice\n							\n					There are no events on this day.				\n					\n	\n\n	\n\n	\n		\n\n\n	\n		\n			\n			\n	\n		\n		\n		\n		\n	\n\n\n	Notice\n							\n					There are no events on this day.				\n					\n	\n\n	\n\n	\n		\n\n\n	\n		\n			\n			\n	\n		\n		\n		\n		\n	\n\n\n	Notice\n							\n					There are no events on this day.				\n					\n	\n\n	\n\n	\n		\n\n\n	\n		\n			\n			\n	\n		\n		\n		\n		\n	\n\n\n	Notice\n							\n					There are no events on this day.				\n					\n	\n\n	\n\n	\n		\n\n\n	\n		\n			\n			\n	\n		\n		\n		\n		\n	\n\n\n	Notice\n							\n					There are no events on this day.				\n					\n	\n\n	\n\n	\n		\n\n\n	\n		\n			\n			\n	\n		\n		\n		\n		\n	\n\n\n	Notice\n							\n					There are no events on this day.				\n					\n	\n\n	\n\n	\n		\n\n\n	\n		\n			\n			\n	\n		\n		\n		\n		\n	\n\n\n	Notice\n							\n					There are no events on this day.				\n					\n	\n\n	\n\n	\n		\n\n\n	\n		\n			\n			\n	\n		\n		\n		\n		\n	\n\n\n	Notice\n							\n					There are no events on this day.				\n					\n	\n\n	\n\n	\n		\n\n\n	\n		\n			\n			\n	\n		\n		\n		\n		\n	\n\n\n	Notice\n							\n					There are no events on this day.				\n					\n	\n\n	\n\n	\n		\n\n\n	\n		\n			\n			\n	\n		\n		\n		\n		\n	\n\n\n	Notice\n							\n					There are no events on this day.				\n					\n	\n\n	\n\n	\n		\n\n\n	\n		\n			\n			\n	\n		\n		\n		\n		\n	\n\n\n	Notice\n							\n					There are no events on this day.				\n					\n	\n\n	\n\n	\n		\n\n\n	\n		\n			\n			\n	\n		\n		\n		\n		\n	\n\n\n	Notice\n							\n					There are no events on this day.				\n					\n	\n\n	\n\n	\n		\n\n\n	\n		\n			\n			\n	\n		\n		\n		\n		\n	\n\n\n	Notice\n							\n					There are no events on this day.				\n					\n	\n\n	\n\n	\n		\n\n\n	\n		\n			\n			\n	\n		\n		\n		\n		\n	\n\n\n	Notice\n							\n					There are no events on this day.				\n					\n	\n\n	\n\n	\n	\n	\n		\n	\n		\n	\n\n		Mar	\n\n\n		\n	\n		This Month	\n\n\n		\n	\n		May		\n	\n\n	\n\n	\n\n\n\n\n		\n	\n		\n			\n				Subscribe to calendar			\n			\n	\n\n		\n		\n			\n									\n\n	\n		Google Calendar	\n\n									\n\n	\n		iCalendar	\n\n									\n\n	\n		Outlook 365	\n\n									\n\n	\n		Outlook Live	\n\n									\n\n	\n		Export .ics file	\n\n									\n\n	\n		Export Outlook .ics file
URL:https://heifetzinstitute.org/event/play-it-forward-the-heifetz-ensemble-in-residence-at-a-place-to-be/
LOCATION:A Place to Be\, 1600 Village Market Blvd SE suite #108\, Leesburg\, VA\, 20175\, United States
CATEGORIES:Heifetz Ensemble in Residence,Heifetz On Tour
ATTACH;FMTTYPE=image/png:https://heifetzinstitute.org/wp-content/uploads/2025/05/HEIR-May-2025_no-names.png
END:VEVENT
END:VCALENDAR