BEGIN:VCALENDAR
VERSION:2.0
PRODID:-//Heifetz - ECPv6.15.20//NONSGML v1.0//EN
CALSCALE:GREGORIAN
METHOD:PUBLISH
X-WR-CALNAME:Heifetz
X-ORIGINAL-URL:https://heifetzinstitute.org
X-WR-CALDESC:Events for Heifetz
REFRESH-INTERVAL;VALUE=DURATION:PT1H
X-Robots-Tag:noindex
X-PUBLISHED-TTL:PT1H
BEGIN:VTIMEZONE
TZID:America/New_York
BEGIN:DAYLIGHT
TZOFFSETFROM:-0500
TZOFFSETTO:-0400
TZNAME:EDT
DTSTART:20240310T070000
END:DAYLIGHT
BEGIN:STANDARD
TZOFFSETFROM:-0400
TZOFFSETTO:-0500
TZNAME:EST
DTSTART:20241103T060000
END:STANDARD
BEGIN:DAYLIGHT
TZOFFSETFROM:-0500
TZOFFSETTO:-0400
TZNAME:EDT
DTSTART:20250309T070000
END:DAYLIGHT
BEGIN:STANDARD
TZOFFSETFROM:-0400
TZOFFSETTO:-0500
TZNAME:EST
DTSTART:20251102T060000
END:STANDARD
BEGIN:DAYLIGHT
TZOFFSETFROM:-0500
TZOFFSETTO:-0400
TZNAME:EDT
DTSTART:20260308T070000
END:DAYLIGHT
BEGIN:STANDARD
TZOFFSETFROM:-0400
TZOFFSETTO:-0500
TZNAME:EST
DTSTART:20261101T060000
END:STANDARD
END:VTIMEZONE
BEGIN:VEVENT
DTSTART;TZID=America/New_York:20250719T120000
DTEND;TZID=America/New_York:20250719T140000
DTSTAMP:20260419T224937
CREATED:20250421T143339Z
LAST-MODIFIED:20250704T140928Z
UID:10000549-1752926400-1752933600@heifetzinstitute.org
SUMMARY:Junior Division Showcase VIII—2025 Festival of Concerts
DESCRIPTION:The Institute’s youngest performers\, aged 7–14\, now dazzle on the Heifetz main stage of Francis Auditorium. Including a new series of weeknight concerts.\n			\n				\n				\n				\n				\n				TICKET INFORMATION\n– $5 (Suggested Donation) Reserved Seating \n– Free Admission for students and children 12 and under\n– ADA Accessible seating available\n– Please email tickets@heifetzinstitute.org to inquire about group rates \n			\n				PURCHASE TICKETS\n			\n				CONCERT PROGRAM\n			\n			\n				\n				\n				\n				\n			\n				\n				\n			\n				\n				\n				\n				\n				\n				\n				\n				\n				\n				\n				\n				\n				\n				\n				\n				\n				\n				VENUE & DIRECTIONS\nFrancis Auditorium @ Mary Baldwin University 227 E. Frederick Street Staunton\, VA\nFree parking available both at MBU lots and on East Frederick Street (see a campus map here) \n			\n			\n				\n				\n				\n				\n			\n				\n				\n				\n				\n				\n				\n				See the 2025 Festival of Concerts Calendar\n			\n			\n				\n				\n				\n				\n			\n				\n				\n				\n				\n				\n				\n				\n				\n				\n				\n				\n			\n			\n				\n				\n				\n				\n			\n				\n				\n			\n				\n				\n				\n				\n				\n				\n				\n				\n				\n				\n				\n				\n				\n				\n				\n				\n				\n				Presenting partners & sponsors for this concert:\n			\n			\n				\n				\n				\n				\n			\n				\n				\n				\n				\n				\n				\n				\n				\n				\n				\n				Fengyun Wu\n			\n				\n				\n				\n				\n				\n			\n			\n				\n				\n				\n				\n			\n				\n				\n			\n				\n				\n				\n				\n				\n				\n				\n				\n				\n				\n				\n				\n				\n				\n				\n				\n				\n				Upcoming Events\n			\n			\n				\n				\n				\n				\n			\n				\n				\n				\n				\n				\n				\n				\n				\n				\n				\n				\n	\n		\n	\n		0 events found.	\n	\n		\n	\n\n		\n	\n\n		\n	\n\n	\n\n\n		\n		\n\n		\n		\n\n	\n\n	\n		Featured	\n\n\n	\n		\n							\n	\n		Events	\n			\n	\n\n	\n		\n		\n						\n	\n		Featured	\n	\n		\n			\n\n\n	Events\n\n	\n			\n			\n	\n		\n		\n		\n		\n	\n\n\n	Notice\n							\n					There are no upcoming events.				\n					\n	\n\n	\n			\n			\n	\n		\n		\n		\n		\n	\n\n\n	Notice\n							\n					There are no upcoming events.				\n					\n	\n\n	\n\n	\n		Events Search and Views Navigation	\n\n			\n	\n	\n\n	\n		Search	\n\n\n		\n			\n	\n		\n\n		\n			\n	\n		Enter Keyword. Search for Events by Keyword.	\n	\n	\n	\n\n\n		\n\n		\n	Find Events\n	\n\n		\n	\n	\n	\n		Event Views Navigation	\n	\n		\n			\n				\n	\n\n			\n			\n				Photo			\n			\n	\n\n		\n		\n	\n					\n	\n		\n			\n	\n	\n		\n		\n	\n	\n			\n		\n	\n	\n		\n			\n		\n		\n			\n		\n	\n\n		\n		\n			List		\n	\n\n					\n	\n		\n			\n	\n\n		\n		\n			Month		\n	\n\n					\n	\n		\n			\n	\n\n		\n		\n			Day		\n	\n\n					\n	\n		\n			\n	\n\n		\n		\n			Photo		\n	\n\n			\n\n	\n\n\n\n\n	\n\n	\n	\n		\n	\n		\n	\n\n	\n\n\n		\n	\n		\n	\n\n	\n\n	\n\n\n	\n	Today\n\n	\n	\n		\n							\n					Upcoming				\n				\n					Upcoming				\n					\n				\n	\n\n	\n	\n		Select date.	\n	\n	\n	\n		\n	\n\n	\n	\n		\n	\n\n	\n\n\n	\n	\n	\n\n\n\n\n		\n		\n			\n				List of events in Photo View			\n			\n\n				\n			\n\n		\n\n		\n	\n		\n	\n		\n	\n\n		\n			Previous Events		\n	\n\n\n		\n	\n		Today	\n\n\n		\n	\n		\n			Next Events		\n		\n	\n\n	\n\n	\n\n\n		\n	\n		\n			\n				Subscribe to calendar			\n			\n	\n\n		\n		\n			\n									\n\n	\n		Google Calendar	\n\n									\n\n	\n		iCalendar	\n\n									\n\n	\n		Outlook 365	\n\n									\n\n	\n		Outlook Live	\n\n									\n\n	\n		Export .ics file	\n\n									\n\n	\n		Export Outlook .ics file	\n\n							\n		\n	\n\n\n			\n\n\n\n\n			\n			\n				\n				\n				\n				\n				\n				\n				\n				\n				\n				\n	\n		\n	\n		35 events found.	\n	\n		\n	\n\n		\n	\n\n		\n	\n\n	\n\n\n		\n		\n\n		\n		\n\n	\n	Events\n\n	\n			\n			\n	\n		\n		\n		\n		\n	\n\n\n	Notice\n							\n					There are no upcoming events.				\n					\n	\n\n	\n			\n			\n	\n		\n		\n		\n		\n	\n\n\n	Notice\n							\n					There are no upcoming events.				\n					\n	\n\n	\n\n	\n		Events Search and Views Navigation	\n\n			\n	\n	\n\n	\n		Search	\n\n\n		\n			\n	\n		\n\n		\n			\n	\n		Enter Keyword. Search for Events by Keyword.	\n	\n	\n	\n\n\n		\n\n		\n	Find Events\n	\n\n		\n	\n	\n	\n		Event Views Navigation	\n	\n		\n			\n				\n	\n\n			\n			\n				Month			\n			\n	\n\n		\n		\n	\n					\n	\n		\n			\n	\n	\n		\n		\n	\n	\n			\n		\n	\n	\n		\n			\n		\n		\n			\n		\n	\n\n		\n		\n			List		\n	\n\n					\n	\n		\n			\n	\n\n		\n		\n			Month		\n	\n\n					\n	\n		\n			\n	\n\n		\n		\n			Day		\n	\n\n					\n	\n		\n			\n	\n\n		\n		\n			Photo		\n	\n\n			\n\n	\n\n\n\n\n	\n\n	\n	\n		\n	\n		\n	\n\n	\n\n\n		\n	\n		\n	\n\n	\n\n	\n\n\n	\n	This Month\n\n	\n	\n		\n			\n				4/19/2026			\n			\n				April 2026			\n		\n		\n	\n\n	\n	\n		Select date.	\n	\n	\n	\n		\n	\n\n	\n	\n		\n	\n\n	\n\n\n	\n	\n	\n\n\n\n\n		\n		\n						Calendar of Events		\n		\n\n			\n\n			\n			\n					\n						M					\n				\n						Monday					\n			\n		\n			\n			\n					\n						T					\n				\n						Tuesday					\n			\n		\n			\n			\n					\n						W					\n				\n						Wednesday					\n			\n		\n			\n			\n					\n						T					\n				\n						Thursday					\n			\n		\n			\n			\n					\n						F					\n				\n						Friday					\n			\n		\n			\n			\n					\n						S					\n				\n						Saturday					\n			\n		\n			\n			\n					\n						S					\n				\n						Sunday					\n			\n		\n	\n\n\n			\n\n			\n			\n				\n	\n	\n		\n			0 events		\n		\n			30		\n	\n	\n\n	\n\n	\n\n	\n		0 events\,\n	\n	\n					30			\n\n\n	\n		\n			\n\n	\n\n\n\n			\n				\n	\n	\n		\n			0 events		\n		\n			31		\n	\n	\n\n	\n\n	\n\n	\n		0 events\,\n	\n	\n					31			\n\n\n	\n		\n			\n\n	\n\n\n\n			\n				\n	\n	\n		\n			0 events		\n		\n			1		\n	\n	\n\n	\n\n	\n\n	\n		0 events\,\n	\n	\n					1			\n\n\n	\n		\n			\n\n	\n\n\n\n			\n				\n	\n	\n		\n			0 events		\n		\n			2		\n	\n	\n\n	\n\n	\n\n	\n		0 events\,\n	\n	\n					2			\n\n\n	\n		\n			\n\n	\n\n\n\n			\n				\n	\n	\n		\n			0 events		\n		\n			3		\n	\n	\n\n	\n\n	\n\n	\n		0 events\,\n	\n	\n					3			\n\n\n	\n		\n			\n\n	\n\n\n\n			\n				\n	\n	\n		\n			0 events		\n		\n			4		\n	\n	\n\n	\n\n	\n\n	\n		0 events\,\n	\n	\n					4			\n\n\n	\n		\n			\n\n	\n\n\n\n			\n				\n	\n	\n		\n			0 events		\n		\n			5		\n	\n	\n\n	\n\n	\n\n	\n		0 events\,\n	\n	\n					5			\n\n\n	\n		\n			\n\n	\n\n\n\n					\n			\n			\n				\n	\n	\n		\n			0 events		\n		\n			6		\n	\n	\n\n	\n\n	\n\n	\n		0 events\,\n	\n	\n					6			\n\n\n	\n		\n			\n\n	\n\n\n\n			\n				\n	\n	\n		\n			0 events		\n		\n			7		\n	\n	\n\n	\n\n	\n\n	\n		0 events\,\n	\n	\n					7			\n\n\n	\n		\n			\n\n	\n\n\n\n			\n				\n	\n	\n		\n			0 events		\n		\n			8		\n	\n	\n\n	\n\n	\n\n	\n		0 events\,\n	\n	\n					8			\n\n\n	\n		\n			\n\n	\n\n\n\n			\n				\n	\n	\n		\n			0 events		\n		\n			9		\n	\n	\n\n	\n\n	\n\n	\n		0 events\,\n	\n	\n					9			\n\n\n	\n		\n			\n\n	\n\n\n\n			\n				\n	\n	\n		\n			0 events		\n		\n			10		\n	\n	\n\n	\n\n	\n\n	\n		0 events\,\n	\n	\n					10			\n\n\n	\n		\n			\n\n	\n\n\n\n			\n				\n	\n	\n		\n			0 events		\n		\n			11		\n	\n	\n\n	\n\n	\n\n	\n		0 events\,\n	\n	\n					11			\n\n\n	\n		\n			\n\n	\n\n\n\n			\n				\n	\n	\n		\n			0 events		\n		\n			12		\n	\n	\n\n	\n\n	\n\n	\n		0 events\,\n	\n	\n					12			\n\n\n	\n		\n			\n\n	\n\n\n\n					\n			\n			\n				\n	\n	\n		\n			0 events		\n		\n			13		\n	\n	\n\n	\n\n	\n\n	\n		0 events\,\n	\n	\n					13			\n\n\n	\n		\n			\n\n	\n\n\n\n			\n				\n	\n	\n		\n			0 events		\n		\n			14		\n	\n	\n\n	\n\n	\n\n	\n		0 events\,\n	\n	\n					14			\n\n\n	\n		\n			\n\n	\n\n\n\n			\n				\n	\n	\n		\n			0 events		\n		\n			15		\n	\n	\n\n	\n\n	\n\n	\n		0 events\,\n	\n	\n					15			\n\n\n	\n		\n			\n\n	\n\n\n\n			\n				\n	\n	\n		\n			0 events		\n		\n			16		\n	\n	\n\n	\n\n	\n\n	\n		0 events\,\n	\n	\n					16			\n\n\n	\n		\n			\n\n	\n\n\n\n			\n				\n	\n	\n		\n			0 events		\n		\n			17		\n	\n	\n\n	\n\n	\n\n	\n		0 events\,\n	\n	\n					17			\n\n\n	\n		\n			\n\n	\n\n\n\n			\n				\n	\n	\n		\n			0 events		\n		\n			18		\n	\n	\n\n	\n\n	\n\n	\n		0 events\,\n	\n	\n					18			\n\n\n	\n		\n			\n\n	\n\n\n\n			\n				\n	\n	\n		\n			0 events		\n		\n			19		\n	\n	\n\n	\n\n	\n\n	\n		0 events\,\n	\n	\n					19			\n\n\n	\n		\n			\n\n	\n\n\n\n					\n			\n			\n				\n	\n	\n		\n			0 events		\n		\n			20		\n	\n	\n\n	\n\n	\n\n	\n		0 events\,\n	\n	\n					20			\n\n\n	\n		\n			\n\n	\n\n\n\n			\n				\n	\n	\n		\n			0 events		\n		\n			21		\n	\n	\n\n	\n\n	\n\n	\n		0 events\,\n	\n	\n					21			\n\n\n	\n		\n			\n\n	\n\n\n\n			\n				\n	\n	\n		\n			0 events		\n		\n			22		\n	\n	\n\n	\n\n	\n\n	\n		0 events\,\n	\n	\n					22			\n\n\n	\n		\n			\n\n	\n\n\n\n			\n				\n	\n	\n		\n			0 events		\n		\n			23		\n	\n	\n\n	\n\n	\n\n	\n		0 events\,\n	\n	\n					23			\n\n\n	\n		\n			\n\n	\n\n\n\n			\n				\n	\n	\n		\n			0 events		\n		\n			24		\n	\n	\n\n	\n\n	\n\n	\n		0 events\,\n	\n	\n					24			\n\n\n	\n		\n			\n\n	\n\n\n\n			\n				\n	\n	\n		\n			0 events		\n		\n			25		\n	\n	\n\n	\n\n	\n\n	\n		0 events\,\n	\n	\n					25			\n\n\n	\n		\n			\n\n	\n\n\n\n			\n				\n	\n	\n		\n			0 events		\n		\n			26		\n	\n	\n\n	\n\n	\n\n	\n		0 events\,\n	\n	\n					26			\n\n\n	\n		\n			\n\n	\n\n\n\n					\n			\n			\n				\n	\n	\n		\n			0 events		\n		\n			27		\n	\n	\n\n	\n\n	\n\n	\n		0 events\,\n	\n	\n					27			\n\n\n	\n		\n			\n\n	\n\n\n\n			\n				\n	\n	\n		\n			0 events		\n		\n			28		\n	\n	\n\n	\n\n	\n\n	\n		0 events\,\n	\n	\n					28			\n\n\n	\n		\n			\n\n	\n\n\n\n			\n				\n	\n	\n		\n			0 events		\n		\n			29		\n	\n	\n\n	\n\n	\n\n	\n		0 events\,\n	\n	\n					29			\n\n\n	\n		\n			\n\n	\n\n\n\n			\n				\n	\n	\n		\n			0 events		\n		\n			30		\n	\n	\n\n	\n\n	\n\n	\n		0 events\,\n	\n	\n					30			\n\n\n	\n		\n			\n\n	\n\n\n\n			\n				\n	\n	\n		\n			0 events		\n		\n			1		\n	\n	\n\n	\n\n	\n\n	\n		0 events\,\n	\n	\n					1			\n\n\n	\n		\n			\n\n	\n\n\n\n			\n				\n	\n	\n		\n			0 events		\n		\n			2		\n	\n	\n\n	\n\n	\n\n	\n		0 events\,\n	\n	\n					2			\n\n\n	\n		\n			\n\n	\n\n\n\n			\n				\n	\n	\n		\n			0 events		\n		\n			3		\n	\n	\n\n	\n\n	\n\n	\n		0 events\,\n	\n	\n					3			\n\n\n	\n		\n			\n\n	\n\n\n\n					\n	\n\n		\n\n		\n			\n			\n	\n		\n		\n		\n		\n	\n\n\n	Notice\n							\n					There are no upcoming events.				\n					\n	\n\n		\n\n	\n		\n\n\n	\n		\n			\n			\n	\n		\n		\n		\n		\n	\n\n\n	Notice\n							\n					There are no events on this day.				\n					\n	\n\n	\n\n	\n		\n\n\n	\n		\n			\n			\n	\n		\n		\n		\n		\n	\n\n\n	Notice\n							\n					There are no events on this day.				\n					\n	\n\n	\n\n	\n		\n\n\n	\n		\n			\n			\n	\n		\n		\n		\n		\n	\n\n\n	Notice\n							\n					There are no events on this day.				\n					\n	\n\n	\n\n	\n		\n\n\n	\n		\n			\n			\n	\n		\n		\n		\n		\n	\n\n\n	Notice\n							\n					There are no events on this day.				\n					\n	\n\n	\n\n	\n		\n\n\n	\n		\n			\n			\n	\n		\n		\n		\n		\n	\n\n\n	Notice\n							\n					There are no events on this day.				\n					\n	\n\n	\n\n	\n		\n\n\n	\n		\n			\n			\n	\n		\n		\n		\n		\n	\n\n\n	Notice\n							\n					There are no events on this day.				\n					\n	\n\n	\n\n	\n		\n\n\n	\n		\n			\n			\n	\n		\n		\n		\n		\n	\n\n\n	Notice\n							\n					There are no events on this day.				\n					\n	\n\n	\n\n	\n		\n\n\n	\n		\n			\n			\n	\n		\n		\n		\n		\n	\n\n\n	Notice\n							\n					There are no events on this day.				\n					\n	\n\n	\n\n	\n		\n\n\n	\n		\n			\n			\n	\n		\n		\n		\n		\n	\n\n\n	Notice\n							\n					There are no events on this day.				\n					\n	\n\n	\n\n	\n		\n\n\n	\n		\n			\n			\n	\n		\n		\n		\n		\n	\n\n\n	Notice\n							\n					There are no events on this day.				\n					\n	\n\n	\n\n	\n		\n\n\n	\n		\n			\n			\n	\n		\n		\n		\n		\n	\n\n\n	Notice\n							\n					There are no events on this day.				\n					\n	\n\n	\n\n	\n		\n\n\n	\n		\n			\n			\n	\n		\n		\n		\n		\n	\n\n\n	Notice\n							\n					There are no events on this day.				\n					\n	\n\n	\n\n	\n		\n\n\n	\n		\n			\n			\n	\n		\n		\n		\n		\n	\n\n\n	Notice\n							\n					There are no events on this day.				\n					\n	\n\n	\n\n	\n		\n\n\n	\n		\n			\n			\n	\n		\n		\n		\n		\n	\n\n\n	Notice\n							\n					There are no events on this day.				\n					\n	\n\n	\n\n	\n		\n\n\n	\n		\n			\n			\n	\n		\n		\n		\n		\n	\n\n\n	Notice\n							\n					There are no events on this day.				\n					\n	\n\n	\n\n	\n		\n\n\n	\n		\n			\n			\n	\n		\n		\n		\n		\n	\n\n\n	Notice\n							\n					There are no events on this day.				\n					\n	\n\n	\n\n	\n		\n\n\n	\n		\n			\n			\n	\n		\n		\n		\n		\n	\n\n\n	Notice\n							\n					There are no events on this day.				\n					\n	\n\n	\n\n	\n		\n\n\n	\n		\n			\n			\n	\n		\n		\n		\n		\n	\n\n\n	Notice\n							\n					There are no events on this day.				\n					\n	\n\n	\n\n	\n		\n\n\n	\n		\n			\n			\n	\n		\n		\n		\n		\n	\n\n\n	Notice\n							\n					There are no events on this day.				\n					\n	\n\n	\n\n	\n		\n\n\n	\n		\n			\n			\n	\n		\n		\n		\n		\n	\n\n\n	Notice\n							\n					There are no events on this day.				\n					\n	\n\n	\n\n	\n		\n\n\n	\n		\n			\n			\n	\n		\n		\n		\n		\n	\n\n\n	Notice\n							\n					There are no events on this day.				\n					\n	\n\n	\n\n	\n		\n\n\n	\n		\n			\n			\n	\n		\n		\n		\n		\n	\n\n\n	Notice\n							\n					There are no events on this day.				\n					\n	\n\n	\n\n	\n		\n\n\n	\n		\n			\n			\n	\n		\n		\n		\n		\n	\n\n\n	Notice\n							\n					There are no events on this day.				\n					\n	\n\n	\n\n	\n		\n\n\n	\n		\n			\n			\n	\n		\n		\n		\n		\n	\n\n\n	Notice\n							\n					There are no events on this day.				\n					\n	\n\n	\n\n	\n		\n\n\n	\n		\n			\n			\n	\n		\n		\n		\n		\n	\n\n\n	Notice\n							\n					There are no events on this day.				\n					\n	\n\n	\n\n	\n		\n\n\n	\n		\n			\n			\n	\n		\n		\n		\n		\n	\n\n\n	Notice\n							\n					There are no events on this day.				\n					\n	\n\n	\n\n	\n		\n\n\n	\n		\n			\n			\n	\n		\n		\n		\n		\n	\n\n\n	Notice\n							\n					There are no events on this day.				\n					\n	\n\n	\n\n	\n		\n\n\n	\n		\n			\n			\n	\n		\n		\n		\n		\n	\n\n\n	Notice\n							\n					There are no events on this day.				\n					\n	\n\n	\n\n	\n		\n\n\n	\n		\n			\n			\n	\n		\n		\n		\n		\n	\n\n\n	Notice\n							\n					There are no events on this day.				\n					\n	\n\n	\n\n	\n		\n\n\n	\n		\n			\n			\n	\n		\n		\n		\n		\n	\n\n\n	Notice\n							\n					There are no events on this day.				\n					\n	\n\n	\n\n	\n		\n\n\n	\n		\n			\n			\n	\n		\n		\n		\n		\n	\n\n\n	Notice\n							\n					There are no events on this day.				\n					\n	\n\n	\n\n	\n		\n\n\n	\n		\n			\n			\n	\n		\n		\n		\n		\n	\n\n\n	Notice\n							\n					There are no events on this day.				\n					\n	\n\n	\n\n	\n		\n\n\n	\n		\n			\n			\n	\n		\n		\n		\n		\n	\n\n\n	Notice\n							\n					There are no events on this day.				\n					\n	\n\n	\n\n	\n		\n\n\n	\n		\n			\n			\n	\n		\n		\n		\n		\n	\n\n\n	Notice\n							\n					There are no events on this day.				\n					\n	\n\n	\n\n	\n		\n\n\n	\n		\n			\n			\n	\n		\n		\n		\n		\n	\n\n\n	Notice\n							\n					There are no events on this day.				\n					\n	\n\n	\n\n	\n	\n	\n		\n	\n		\n	\n\n		Mar	\n\n\n		\n	\n		This Month	\n\n\n		\n	\n		May		\n	\n\n	\n\n	\n\n\n\n\n		\n	\n		\n			\n				Subscribe to calendar			\n			\n	\n\n		\n		\n			\n									\n\n	\n		Google Calendar	\n\n									\n\n	\n		iCalendar	\n\n									\n\n	\n		Outlook 365	\n\n									\n\n	\n		Outlook Live	\n\n									\n\n	\n		Export .ics file	\n\n									\n\n	\n		Export Outlook .ics file
URL:https://heifetzinstitute.org/event/junior-division-showcase-viii-2025-festival-of-concerts/
LOCATION:Francis Auditorium\, 227 East Frederick Street\, Staunton\, VA\, 24401\, United States
CATEGORIES:2025 Festival of Concerts,Junior Division Showcase
ATTACH;FMTTYPE=image/png:https://heifetzinstitute.org/wp-content/uploads/2025/04/9.png
END:VEVENT
END:VCALENDAR