BEGIN:VCALENDAR
VERSION:2.0
PRODID:-//Heifetz - ECPv6.15.20//NONSGML v1.0//EN
CALSCALE:GREGORIAN
METHOD:PUBLISH
X-WR-CALNAME:Heifetz
X-ORIGINAL-URL:https://heifetzinstitute.org
X-WR-CALDESC:Events for Heifetz
REFRESH-INTERVAL;VALUE=DURATION:PT1H
X-Robots-Tag:noindex
X-PUBLISHED-TTL:PT1H
BEGIN:VTIMEZONE
TZID:America/New_York
BEGIN:DAYLIGHT
TZOFFSETFROM:-0500
TZOFFSETTO:-0400
TZNAME:EDT
DTSTART:20220313T070000
END:DAYLIGHT
BEGIN:STANDARD
TZOFFSETFROM:-0400
TZOFFSETTO:-0500
TZNAME:EST
DTSTART:20221106T060000
END:STANDARD
BEGIN:DAYLIGHT
TZOFFSETFROM:-0500
TZOFFSETTO:-0400
TZNAME:EDT
DTSTART:20230312T070000
END:DAYLIGHT
BEGIN:STANDARD
TZOFFSETFROM:-0400
TZOFFSETTO:-0500
TZNAME:EST
DTSTART:20231105T060000
END:STANDARD
BEGIN:DAYLIGHT
TZOFFSETFROM:-0500
TZOFFSETTO:-0400
TZNAME:EDT
DTSTART:20240310T070000
END:DAYLIGHT
BEGIN:STANDARD
TZOFFSETFROM:-0400
TZOFFSETTO:-0500
TZNAME:EST
DTSTART:20241103T060000
END:STANDARD
END:VTIMEZONE
BEGIN:VEVENT
DTSTART;TZID=America/New_York:20230415T160000
DTEND;TZID=America/New_York:20230415T180000
DTSTAMP:20260424T102419
CREATED:20230317T175043Z
LAST-MODIFIED:20230412T180614Z
UID:10000366-1681574400-1681581600@heifetzinstitute.org
SUMMARY:Heifetz at Heartstone Country Retreat
DESCRIPTION:The Heifetz Ensemble in Residence return to Heartstone Country Retreat— tucked away in the rolling farmlands of the Shenandoah Valley near historic downtown Lexington—for a concert benefiting scholarship recipients of the Institute’s 2023 summer program.\n			\n				\n				\n				\n				\n				TICKET INFORMATION– $25 General Admission seating-$5 student tickets– Free Admission for children 12 and under– Accessible seating available– Please email tickets@heifetzinstitute.org to inquire about group rates \n			\n				PURCHASE TICKETS\n			\n				CONCERT PROGRAM\n			\n			\n				\n				\n				\n				\n			\n				\n				\n			\n				\n				\n				\n				\n				\n				\n				\n				\n				\n				\n				\n				\n				\n				\n				\n				\n				\n				VENUE & DIRECTIONSHeartstone Country Resort – 1366 Stuartsburg Rd\, Buena Vista\, VA 24416 \n			\n				\n				\n				\n				\n				\nABOUT NAHAR ELIAZ18-year old Israeli cellist and two-time Heifetz Institute attendee Nahar Eliaz has distinguished herself as an internationally acclaimed award-winning performer\, earning more than a dozen First Prize awards in international competitions since 2019. Her success has led to concerts at venues such as Lincoln Center and Carnegie Hall in the US\,  the Barcelona Arts Center in Spain\, the Beethovenhaus in Germany\, and the Musikverein and Mozarthaus in Austria. Following a personal invitation from Itzhak Perlman\, Nahar was featured at the 2018 gala event for the Israeli Prime Minister. \nAs a soloist\, Nahar has appeared with orchestras in Israel and around the world\, as well as in recitals in music festivals and events in Europe and the USA. Nahar was chosen to be a part of the New York Festival of Strings\, participating in the traditional Carnegie Hall concerts in New York in December of 2023. \nNahar is a winner of several awards from the America-Israel Cultura Foundation\, receiving scholarships for 7 consecutive years. She has also received awards from the Zefunot Culture Foundation\, and the Ronen Foundation. She is the recipient of a Dean's Scholarship at the New England Conservatory\, where she studies with teachers (and Heifetz faculty members) Laurence Lesser and Yeesun Kim.  \nNahar performs on a Galiano cello from 1760. \n\n\n			\n			\n				\n				\n				\n				\n			\n				\n				\n				\n				\n				\n				\n				See the 2023 Festival of Concerts Calendar
URL:https://heifetzinstitute.org/event/heifetz-at-heartstone/
LOCATION:Heartstone Lodge & Retreat\, 1366 Stuartsburg Rd #Fr703\, Buena Vista\, VA\, 24416\, United States
CATEGORIES:Heifetz Ensemble in Residence
ATTACH;FMTTYPE=image/png:https://heifetzinstitute.org/wp-content/uploads/2023/03/Apr-15-Heartstone_Event-Images-for-website-2160x1080-1.png
END:VEVENT
END:VCALENDAR